BEGIN:VCALENDAR
VERSION:2.0
PRODID:-//jEvents 2.0 for Joomla//EN
CALSCALE:GREGORIAN
METHOD:PUBLISH
BEGIN:VTIMEZONE
TZID:Europe/Berlin
BEGIN:STANDARD
DTSTART:20251026T020000
RDATE:20260329T030000
TZOFFSETFROM:+0200
TZOFFSETTO:+0100
TZNAME:Europe/Berlin CET
END:STANDARD
BEGIN:STANDARD
DTSTART:20261025T020000
RDATE:20270328T030000
TZOFFSETFROM:+0200
TZOFFSETTO:+0100
TZNAME:Europe/Berlin CET
END:STANDARD
BEGIN:STANDARD
DTSTART:20271031T020000
RDATE:20280326T030000
TZOFFSETFROM:+0200
TZOFFSETTO:+0100
TZNAME:Europe/Berlin CET
END:STANDARD
BEGIN:STANDARD
DTSTART:20281029T020000
RDATE:20290325T030000
TZOFFSETFROM:+0200
TZOFFSETTO:+0100
TZNAME:Europe/Berlin CET
END:STANDARD
BEGIN:STANDARD
DTSTART:20291028T020000
RDATE:20300331T030000
TZOFFSETFROM:+0200
TZOFFSETTO:+0100
TZNAME:Europe/Berlin CET
END:STANDARD
BEGIN:STANDARD
DTSTART:20301027T020000
RDATE:20310330T030000
TZOFFSETFROM:+0200
TZOFFSETTO:+0100
TZNAME:Europe/Berlin CET
END:STANDARD
BEGIN:STANDARD
DTSTART:20311026T020000
RDATE:20320328T030000
TZOFFSETFROM:+0200
TZOFFSETTO:+0100
TZNAME:Europe/Berlin CET
END:STANDARD
BEGIN:DAYLIGHT
DTSTART:20250710T100000
RDATE:20251026T020000
TZOFFSETFROM:+0100
TZOFFSETTO:+0200
TZNAME:Europe/Berlin CEST
END:DAYLIGHT
BEGIN:DAYLIGHT
DTSTART:20260329T030000
RDATE:20261025T020000
TZOFFSETFROM:+0100
TZOFFSETTO:+0200
TZNAME:Europe/Berlin CEST
END:DAYLIGHT
BEGIN:DAYLIGHT
DTSTART:20270328T030000
RDATE:20271031T020000
TZOFFSETFROM:+0100
TZOFFSETTO:+0200
TZNAME:Europe/Berlin CEST
END:DAYLIGHT
BEGIN:DAYLIGHT
DTSTART:20280326T030000
RDATE:20281029T020000
TZOFFSETFROM:+0100
TZOFFSETTO:+0200
TZNAME:Europe/Berlin CEST
END:DAYLIGHT
BEGIN:DAYLIGHT
DTSTART:20290325T030000
RDATE:20291028T020000
TZOFFSETFROM:+0100
TZOFFSETTO:+0200
TZNAME:Europe/Berlin CEST
END:DAYLIGHT
BEGIN:DAYLIGHT
DTSTART:20300331T030000
RDATE:20301027T020000
TZOFFSETFROM:+0100
TZOFFSETTO:+0200
TZNAME:Europe/Berlin CEST
END:DAYLIGHT
BEGIN:DAYLIGHT
DTSTART:20310330T030000
RDATE:20311026T020000
TZOFFSETFROM:+0100
TZOFFSETTO:+0200
TZNAME:Europe/Berlin CEST
END:DAYLIGHT
END:VTIMEZONE
BEGIN:VEVENT
UID:8810c527ec0953870bbbbd44bab14961
CATEGORIES:Kurse
CREATED:20260105T113549
SUMMARY:Sommerstckkurs 2026
LOCATION:Haar\, Tannenhofstr. 18
DESCRIPTION:Am 11.07.20026 indet der Sommerstickkurs 2026 statt.\nDie Kosten für den Sa
 mstagskurs betragen 120 € inkl. MwSt.\n
X-ALT-DESC;FMTTYPE=text/html:<p>Am 11.07.20026 indet der Sommerstickkurs 2026 statt.</p><p>Die Kosten fü
 r den Samstagskurs betragen 120 € inkl. MwSt.</p>
CONTACT:Diese E-Mail-Adresse ist vor Spambots geschützt! Zur Anzeige muss JavaScript eingeschaltet sein!
				document.getElementById('cloak5f09eb60cc67f9ea7c17534dd4b01ace').innerHTML = '';
				var prefix = '&#109;a' + 'i&#108;' + '&#116;o';
				var path = 'hr' + 'ef' + '=';
				var addy5f09eb60cc67f9ea7c17534dd4b01ace = '&#105;nf&#111;' + '&#64;';
				addy5f09eb60cc67f9ea7c17534dd4b01ace = addy5f09eb60cc67f9ea7c17534dd4b01ace + 'h&#97;ndst&#105;ck&#101;r&#101;&#105;' + '&#46;' + '&#105;nf&#111;';
				var addy_text5f09eb60cc67f9ea7c17534dd4b01ace = '&#105;nf&#111;' + '&#64;' + 'h&#97;ndst&#105;ck&#101;r&#101;&#105;' + '&#46;' + '&#105;nf&#111;';document.getElementById('cloak5f09eb60cc67f9ea7c17534dd4b01ace').innerHTML += '<a ' + path + '\'' + prefix + ':' + addy5f09eb60cc67f9ea7c17534dd4b01ace + '\'>'+addy_text5f09eb60cc67f9ea7c17534dd4b01ace+'';
		
DTSTAMP:20260419T132647
DTSTART;TZID=Europe/Berlin:20260711T100000
DTEND;TZID=Europe/Berlin:20260711T160000
SEQUENCE:0
TRANSP:OPAQUE
END:VEVENT
END:VCALENDAR